View In:
ArcGIS JavaScript
ArcGIS Online map viewer
Google Earth
ArcMap
View Footprint In:
ArcGIS Online map viewer
Service Description: Dynamic Image Service covering the Arctic at 2 meters. These overlapping DEMs are generated by PGC from DigitalGlobe satellite imagery and attributed with the acquisition dates so they can be filtered temporally. 2m mosaics created from the 2m data strips are also included. This service provides access to elevation values for use in analysis with server-side functions for slope, aspect, hillshade and contour. For more information on this service, including the terms of use, visit us online at
ArcticDEM.
Name: Polar/ArcticDEM
Description: Dynamic Image Service covering the Arctic at 2 meters. These overlapping DEMs are generated by PGC from DigitalGlobe satellite imagery and attributed with the acquisition dates so they can be filtered temporally. 2m mosaics created from the 2m data strips are also included. This service provides access to elevation values for use in analysis with server-side functions for slope, aspect, hillshade and contour. For more information on this service, including the terms of use, visit us online at
ArcticDEM.
Single Fused Map Cache: false
Extent:
XMin: -1647720.5069000013
YMin: -2101522.3853999963
XMax: 5476281.493099999
YMax: 5505635.614600004
Spatial Reference: 5936
(5936)
Initial Extent:
XMin: -1647720.5069000013
YMin: -2101522.3853999963
XMax: 5476281.493099999
YMax: 5505635.614600004
Spatial Reference: 5936
(5936)
Full Extent:
XMin: -1647720.5069000013
YMin: -2101522.3853999963
XMax: 5476281.493099999
YMax: 5505635.614600004
Spatial Reference: 5936
(5936)
Pixel Size X: 2.0
Pixel Size Y: 2.0
Band Count: 2
Pixel Type: F32
RasterFunction Infos: {"name":"Hillshade Gray","description":"Provides a hillshaded surface generated dynamically using the hillshade server-side function on the elevation layer with a solar azimuth of 315 degrees and solar altitude of 45 degrees.","help":""}, {"name":"Aspect Degrees","description":"This server-side function will apply an on-the-fly process to the input elevation data to generate an aspect layer.","help":"Raster Function Templates may be activated in ArcMap by loading the service into the map, right clicking on the service in the Table of Contents to select Properties, and selecting the desired function from the Server Functions tab. For help with invoking raster functions via REST calls, see http://resources.arcgis.com/en/help/rest/apiref/. "}, {"name":"Aspect Map","description":"This server-side function will apply an on-the-fly process to the input elevation data to generate a color visualization of aspect. ","help":"Raster Function Templates may be activated in ArcMap by loading the service into the map, right clicking on the service in the Table of Contents to select Properties, and selecting the desired function from the Server Functions tab. For help with invoking raster functions via REST calls, see http://resources.arcgis.com/en/help/rest/apiref/. "}, {"name":"Contour 25","description":"Provides 25 contours for the area of interest dynamically generated using the contour server-side function.","help":""}, {"name":"Hillshade Multidirectional","description":"This server-side function will apply an on-the-fly process to the input elevation values to generate a multi-directional hillshade. This algorithm computes hillshade from six different directions, where each hillshade is multiplied by a weight and thereafter the sum of all is normalized to produce the final output.","help":"Raster Function Templates may be activated in ArcMap by loading the service into the map, right clicking on the service in the Table of Contents to select Properties, and selecting the desired function from the Server Functions tab. For help with invoking raster functions via REST calls, see http://resources.arcgis.com/en/help/rest/apiref/. "}, {"name":"Slope Map","description":"This server-side function will apply an on-the-fly process to the input elevation data to generate a color visualization of slope, where flat surfaces are gray, shallow slopes are yellow, and steep slopes are red-brown. ","help":"Raster Function Templates may be activated in ArcMap by loading the service into the map, right clicking on the service in the Table of Contents to select Properties, and selecting the desired function from the Server Functions tab. For help with invoking raster functions via REST calls, see http://resources.arcgis.com/en/help/rest/apiref/. "}, {"name":"Slope Degrees","description":"This server-side function will apply an on-the-fly process to the input elevation data to generate a service returning slope (in degrees, from 0 to 90). ","help":"Raster Function Templates may be activated in ArcMap by loading the service into the map, right clicking on the service in the Table of Contents to select Properties, and selecting the desired function from the Server Functions tab. For help with invoking raster functions via REST calls, see http://resources.arcgis.com/en/help/rest/apiref/. "}, {"name":"Contour Smoothed 25","description":"Provides 25 smoothened contours for the area of interest dynamically generated using the contour server-side function.","help":""}, {"name":"Hillshade Elevation Tinted","description":"This server-side function will apply an on-the-fly process to the input elevation data to generate a tinted hillshade. ","help":"Raster Function Templates may be activated in ArcMap by loading the service into the map, right clicking on the service in the Table of Contents to select Properties, and selecting the desired function from the Server Functions tab. For help with invoking raster functions via REST calls, see http://resources.arcgis.com/en/help/rest/apiref/. "}, {"name":"Height Ellipsoidal","description":"Provides ellipsoidal heights calculated dynamically using a server-side function to add the EGM2008 geoid model to orthometric heights from the elevation layer. This can be used for orthorectification.","help":""}, {"name":"Height Orthometric","description":"This Server side raster function provides Orthometric heights.","help":""}, {"name":"None","description":"A No-Op Function.","help":""}
Mensuration Capabilities: Basic
Has Histograms: false
Has Colormap: false
Has Multi Dimensions : false
Rendering Rule:
Min Scale: 0
Max Scale: 0
Copyright Text: Source: PGC, UMN, Esri
Service Data Type: esriImageServiceDataTypeElevation
Min Values: -346.9075317382813, -1.495296955108643
Max Values: 5282.5244140625, 2570.028564453125
Mean Values: 513.858187775337, 2.921521885554519
Standard Deviation Values: 660.8068512943648, 37.80131080597688
Object ID Field: OBJECTID
Fields:
-
OBJECTID
(
type: esriFieldTypeOID
, alias: OBJECTID
)
-
Shape
(
type: esriFieldTypeGeometry
, alias: Shape
)
-
Name
(
type: esriFieldTypeString
, alias: Name
, length: 200
)
-
MinPS
(
type: esriFieldTypeDouble
, alias: MinPS
)
-
MaxPS
(
type: esriFieldTypeDouble
, alias: MaxPS
)
-
LowPS
(
type: esriFieldTypeDouble
, alias: LowPS
)
-
HighPS
(
type: esriFieldTypeDouble
, alias: HighPS
)
-
Category
(
type: esriFieldTypeInteger
, alias: Category
, Coded Values:
[0: Unknown]
, [1: Primary]
, [2: Overview]
, ...5 more...
)
-
Tag
(
type: esriFieldTypeString
, alias: Tag
, length: 100
)
-
GroupName
(
type: esriFieldTypeString
, alias: GroupName
, length: 100
)
-
ProductName
(
type: esriFieldTypeString
, alias: ProductName
, length: 100
)
-
CenterX
(
type: esriFieldTypeDouble
, alias: CenterX
)
-
CenterY
(
type: esriFieldTypeDouble
, alias: CenterY
)
-
ZOrder
(
type: esriFieldTypeInteger
, alias: ZOrder
)
-
Dataset_ID
(
type: esriFieldTypeString
, alias: Dataset_ID
, length: 32
)
-
Best
(
type: esriFieldTypeInteger
, alias: Best
)
-
Source
(
type: esriFieldTypeString
, alias: Source
, length: 32
)
-
LE90
(
type: esriFieldTypeSingle
, alias: LE90
)
-
CE90
(
type: esriFieldTypeSingle
, alias: CE90
)
-
DEM_Type
(
type: esriFieldTypeSmallInteger
, alias: DEM_Type
)
-
NumDate
(
type: esriFieldTypeString
, alias: NumDate
, length: 255
)
-
AcquisitionDate
(
type: esriFieldTypeDate
, alias: AcquisitionDate
, length: 8
)
-
Source_URL
(
type: esriFieldTypeString
, alias: Source_URL
, length: 64
)
-
VerticalDatum
(
type: esriFieldTypeString
, alias: VerticalDatum
, length: 16
)
-
Link2Metadata
(
type: esriFieldTypeString
, alias: Link2Metadata
, length: 100
)
-
creationdate
(
type: esriFieldTypeDate
, alias: creationdate
, length: 8
)
-
fileurl
(
type: esriFieldTypeString
, alias: fileurl
, length: 256
)
-
qual
(
type: esriFieldTypeDouble
, alias: qual
)
-
dx
(
type: esriFieldTypeDouble
, alias: dx
)
-
dy
(
type: esriFieldTypeDouble
, alias: dy
)
-
dz
(
type: esriFieldTypeDouble
, alias: dz
)
-
reg_src
(
type: esriFieldTypeString
, alias: reg_src
, length: 20
)
-
num_gcps
(
type: esriFieldTypeSmallInteger
, alias: num_gcps
)
-
meanresz
(
type: esriFieldTypeDouble
, alias: meanresz
)
-
active
(
type: esriFieldTypeSmallInteger
, alias: active
)
-
qc
(
type: esriFieldTypeSmallInteger
, alias: qc
)
-
BandAR_Z
(
type: esriFieldTypeString
, alias: BandAR_Z
, length: 50
)
-
Shape_Length
(
type: esriFieldTypeDouble
, alias: Shape_Length
)
-
Shape_Area
(
type: esriFieldTypeDouble
, alias: Shape_Area
)
Default Mosaic Method: ByAttribute
Allowed Mosaic Methods: ByAttribute,LockRaster,Seamline,None
SortField: Best
SortValue: 0
Mosaic Operator: First
Default Compression Quality: 75
Default Resampling Method: Bilinear
Max Record Count: 2000
Max Image Height: 4000
Max Image Width: 4000
Max Download Image Count: 0
Max Mosaic Image Count: 50
Allow Raster Function: true
Allow Compute TiePoints: false
Supports Statistics: true
Supports Advanced Queries: true
Use StandardizedQueries: true
Raster Type Infos:
Name: Raster Dataset
Description: Supports all ArcGIS Raster Datasets
Help:
Has Raster Attribute Table: false
Edit Fields Info: null
Ownership Based AccessControl For Rasters: null
Child Resources:
Info
Key Properties
Legend
MultiDimensionalInfo
rasterFunctionInfos
Supported Operations:
Export Image
Query
Identify
Measure
Compute Histograms
Compute Statistics Histograms
Get Samples
Compute Class Statistics