{
 "currentVersion": 10.4,
 "serviceDescription": "Dynamic Image Service covering data for Antarctica Region at 8m resolution. The Reference Elevation Model of Antarctica (REMA) built by Polar GeoSpatial Center (PGC) provides high resolution elevation data. REMA is generated from Digital Globe Imagery acquired between 2009 to 2017. Each Pixel is attributed with a date at which it was captured. This service provides access to elevation values for use in analysis with server-side functions for slope, aspect, hillshade and contour. For more information on this service, including the terms of use, visit us online at AntarcticDEM<\/a>.",
 "name": "Polar/AntarcticDEM",
 "description": "Dynamic Image Service covering data for Antarctica Region at 8m resolution. The Reference Elevation Model of Antarctica (REMA) built by Polar GeoSpatial Center (PGC) provides high resolution elevation data. REMA is generated from Digital Globe Imagery acquired between 2009 to 2017. Each Pixel is attributed with a date at which it was captured. This service provides access to elevation values for use in analysis with server-side functions for slope, aspect, hillshade and contour. For more information on this service, including the terms of use, visit us online at AntarcticDEM<\/a>.",
 "extent": {
  "xmin": -2699999.4723000005,
  "ymin": -2200000.417199998,
  "xmax": 2800000.5276999995,
  "ymax": 2299999.582800002,
  "spatialReference": {
   "wkid": 3031,
   "latestWkid": 3031
  }
 },
 "initialExtent": {
  "xmin": -2699999.4723000005,
  "ymin": -2200000.417199998,
  "xmax": 2800000.5276999995,
  "ymax": 2299999.582800002,
  "spatialReference": {
   "wkid": 3031,
   "latestWkid": 3031
  }
 },
 "fullExtent": {
  "xmin": -2699999.4723000005,
  "ymin": -2200000.417199998,
  "xmax": 2800000.5276999995,
  "ymax": 2299999.582800002,
  "spatialReference": {
   "wkid": 3031,
   "latestWkid": 3031
  }
 },
 "pixelSizeX": 8,
 "pixelSizeY": 8,
 "bandCount": 3,
 "pixelType": "F32",
 "minPixelSize": 0,
 "maxPixelSize": 0,
 "copyrightText": "Source: PGC, UMN, Esri",
 "serviceDataType": "esriImageServiceDataTypeElevation",
 "minValues": [
  -25.73809814453125,
  0.10000000149011612,
  3263
 ],
 "maxValues": [
  4591.99755859375,
  252.47451782226562,
  6489
 ],
 "meanValues": [
  1950.532489653278,
  0.7348491844167989,
  5608.022035852615
 ],
 "stdvValues": [
  1183.735061085597,
  3.252931667989127,
  431.87151966559986
 ],
 "objectIdField": "OBJECTID",
 "fields": [
  {
   "name": "OBJECTID",
   "type": "esriFieldTypeOID",
   "alias": "OBJECTID",
   "domain": null
  },
  {
   "name": "Shape",
   "type": "esriFieldTypeGeometry",
   "alias": "Shape",
   "domain": null
  },
  {
   "name": "Name",
   "type": "esriFieldTypeString",
   "alias": "Name",
   "domain": null,
   "length": 200
  },
  {
   "name": "MinPS",
   "type": "esriFieldTypeDouble",
   "alias": "MinPS",
   "domain": null
  },
  {
   "name": "MaxPS",
   "type": "esriFieldTypeDouble",
   "alias": "MaxPS",
   "domain": null
  },
  {
   "name": "LowPS",
   "type": "esriFieldTypeDouble",
   "alias": "LowPS",
   "domain": null
  },
  {
   "name": "HighPS",
   "type": "esriFieldTypeDouble",
   "alias": "HighPS",
   "domain": null
  },
  {
   "name": "Category",
   "type": "esriFieldTypeInteger",
   "alias": "Category",
   "domain": {
    "type": "codedValue",
    "name": "MosaicCatalogItemCategoryDomain",
    "codedValues": [
     {
      "name": "Unknown",
      "code": 0
     },
     {
      "name": "Primary",
      "code": 1
     },
     {
      "name": "Overview",
      "code": 2
     },
     {
      "name": "Unprocessed Overview",
      "code": 3
     },
     {
      "name": "Partial Overview",
      "code": 4
     },
     {
      "name": "Uploaded",
      "code": 253
     },
     {
      "name": "Incomplete",
      "code": 254
     },
     {
      "name": "Custom",
      "code": 255
     }
    ]
   }
  },
  {
   "name": "Tag",
   "type": "esriFieldTypeString",
   "alias": "Tag",
   "domain": null,
   "length": 100
  },
  {
   "name": "GroupName",
   "type": "esriFieldTypeString",
   "alias": "GroupName",
   "domain": null,
   "length": 100
  },
  {
   "name": "ProductName",
   "type": "esriFieldTypeString",
   "alias": "ProductName",
   "domain": null,
   "length": 100
  },
  {
   "name": "CenterX",
   "type": "esriFieldTypeDouble",
   "alias": "CenterX",
   "domain": null
  },
  {
   "name": "CenterY",
   "type": "esriFieldTypeDouble",
   "alias": "CenterY",
   "domain": null
  },
  {
   "name": "ZOrder",
   "type": "esriFieldTypeInteger",
   "alias": "ZOrder",
   "domain": null
  },
  {
   "name": "Shape_Length",
   "type": "esriFieldTypeDouble",
   "alias": "Shape_Length",
   "domain": null
  },
  {
   "name": "Shape_Area",
   "type": "esriFieldTypeDouble",
   "alias": "Shape_Area",
   "domain": null
  },
  {
   "name": "Dataset_ID",
   "type": "esriFieldTypeString",
   "alias": "Dataset_ID",
   "domain": null,
   "length": 32
  },
  {
   "name": "Best",
   "type": "esriFieldTypeInteger",
   "alias": "Best",
   "domain": null
  },
  {
   "name": "Source",
   "type": "esriFieldTypeString",
   "alias": "Source",
   "domain": null,
   "length": 32
  },
  {
   "name": "LE90",
   "type": "esriFieldTypeSingle",
   "alias": "LE90",
   "domain": null
  },
  {
   "name": "CE90",
   "type": "esriFieldTypeSingle",
   "alias": "CE90",
   "domain": null
  },
  {
   "name": "DEM_Type",
   "type": "esriFieldTypeSmallInteger",
   "alias": "DEM_Type",
   "domain": null
  },
  {
   "name": "NumDate",
   "type": "esriFieldTypeString",
   "alias": "NumDate",
   "domain": null,
   "length": 255
  },
  {
   "name": "AcquisitionDate",
   "type": "esriFieldTypeDate",
   "alias": "AcquisitionDate",
   "domain": null,
   "length": 8
  },
  {
   "name": "Source_URL",
   "type": "esriFieldTypeString",
   "alias": "Source_URL",
   "domain": null,
   "length": 64
  },
  {
   "name": "VerticalDatum",
   "type": "esriFieldTypeString",
   "alias": "VerticalDatum",
   "domain": null,
   "length": 16
  },
  {
   "name": "Link2Metadata",
   "type": "esriFieldTypeString",
   "alias": "Link2Metadata",
   "domain": null,
   "length": 100
  }
 ],
 "capabilities": "Catalog,Image,Mensuration,Metadata,Pixels",
 "defaultMosaicMethod": "ByAttribute",
 "allowedMosaicMethods": "ByAttribute,LockRaster,Seamline,None",
 "sortField": "Best",
 "sortValue": "0",
 "mosaicOperator": "First",
 "defaultCompressionQuality": 75,
 "defaultResamplingMethod": "Bilinear",
 "maxImageHeight": 4000,
 "maxImageWidth": 4000,
 "maxRecordCount": 2000,
 "maxDownloadImageCount": 50,
 "maxDownloadSizeLimit": 2048,
 "maxMosaicImageCount": 500,
 "allowRasterFunction": true,
 "rasterFunctionInfos": [
  {
   "name": "Hillshade Gray",
   "description": "Provides a hillshaded surface generated dynamically using the hillshade server-side function on the Terrain layer with a solar azimuth of 315 degrees and solar altitude of 45 degrees.",
   "help": ""
  },
  {
   "name": "Aspect Degrees",
   "description": "This server-side function will apply an on-the-fly process to the input elevation data to generate an aspect layer.",
   "help": ""
  },
  {
   "name": "Aspect Map",
   "description": "This server-side function will apply an on-the-fly process to the input elevation data to generate a color visualization of aspect. ",
   "help": "Raster Function Templates may be activated in ArcMap by loading the service into the map, right clicking on the service in the Table of Contents to select Properties, and selecting the desired function from the Server Functions tab. For help with invoking raster functions via REST calls, see http://resources.arcgis.com/en/help/rest/apiref/. "
  },
  {
   "name": "Slope Degrees Map",
   "description": "This server-side function will apply an on-the-fly process to the input elevation data to generate a color visualization of slope, where flat surfaces are gray, shallow slopes are yellow, and steep slopes are red-brown. ",
   "help": "Raster Function Templates may be activated in ArcMap by loading the service into the map, right clicking on the service in the Table of Contents to select Properties, and selecting the desired function from the Server Functions tab. For help with invoking raster functions via REST calls, see http://resources.arcgis.com/en/help/rest/apiref/. "
  },
  {
   "name": "Slope Degrees",
   "description": "This server-side function will apply an on-the-fly process to the input elevation data to generate a service returning slope (in degrees, from 0 to 90). ",
   "help": ""
  },
  {
   "name": "Hillshade Elevation Tinted",
   "description": "This server-side function will apply an on-the-fly process to the input elevation data to generate a tinted hillshade. ",
   "help": "Raster Function Templates may be activated in ArcMap by loading the service into the map, right clicking on the service in the Table of Contents to select Properties, and selecting the desired function from the Server Functions tab. For help with invoking raster functions via REST calls, see http://resources.arcgis.com/en/help/rest/apiref/. "
  },
  {
   "name": "Height Ellipsoidal",
   "description": "Provides ellipsoidal heights calculated dynamically using a server-side function to add the EGM2008 geoid model to orthometric heights from the elevation layer. This can be used for orthorectification.",
   "help": ""
  },
  {
   "name": "Height Orthometric",
   "description": "This Server side raster function provides Orthometric heights.",
   "help": ""
  },
  {
   "name": "DaysSinceY2K",
   "description": "Days since year 2000",
   "help": ""
  },
  {
   "name": "EstimatedError",
   "description": "Estimated Error in the data",
   "help": ""
  },
  {
   "name": "Contour 25",
   "description": "Provides 25 contours for the area of interest dynamically generated using the contour server-side function.",
   "help": ""
  },
  {
   "name": "Smooth Contour 25",
   "description": "Provides 25 smoothened contours for the area of interest dynamically generated using the contour server-side function.",
   "help": ""
  },
  {
   "name": "Hillshade Multidirectional",
   "description": "This server-side function will apply an on-the-fly process to the input elevation values to generate a multi-directional hillshade. This algorithm computes hillshade from six different directions, where each hillshade is multiplied by a weight and thereafter the sum of all is normalized to produce the final output.",
   "help": "Raster Function Templates may be activated in ArcMap by loading the service into the map, right clicking on the service in the Table of Contents to select Properties, and selecting the desired function from the Server Functions tab. For help with invoking raster functions via REST calls, see http://resources.arcgis.com/en/help/rest/apiref/. "
  },
  {
   "name": "None",
   "description": "A No-Op Function.",
   "help": ""
  }
 ],
 "rasterTypeInfos": [
  {
   "name": "Raster Dataset",
   "description": "Supports all ArcGIS Raster Datasets",
   "help": ""
  }
 ],
 "mensurationCapabilities": "Basic",
 "hasHistograms": true,
 "hasColormap": false,
 "hasRasterAttributeTable": false,
 "minScale": 0,
 "maxScale": 0,
 "exportTilesAllowed": false,
 "hasMultidimensions": false,
 "supportsStatistics": true,
 "supportsAdvancedQueries": true,
 "editFieldsInfo": null,
 "ownershipBasedAccessControlForRasters": null,
 "allowComputeTiePoints": false,
 "useStandardizedQueries": true,
 "advancedQueryCapabilities": {
  "useStandardizedQueries": true,
  "supportsStatistics": true,
  "supportsOrderBy": true,
  "supportsDistinct": true,
  "supportsPagination": true
 },
 "spatialReference": {
  "wkid": 3031,
  "latestWkid": 3031
 }
}
