{
 "currentVersion": 10.4,
 "serviceDescription": "Dynamic Image Service covering the Arctic at 2 meters. These overlapping DEMs are generated by PGC from DigitalGlobe satellite imagery and attributed with the acquisition dates so they can be filtered temporally. 2m mosaics created from the 2m data strips are also included. This service provides access to elevation values for use in analysis with server-side functions for slope, aspect, hillshade and contour. For more information on this service, including the terms of use, visit us online at <a href='http://goto.arcgisonline.com/elevation2/Polar/ArcticDEM' target='_new'>ArcticDEM<\/a>.",
 "name": "Polar/ArcticDEM",
 "description": "Dynamic Image Service covering the Arctic at 2 meters. These overlapping DEMs are generated by PGC from DigitalGlobe satellite imagery and attributed with the acquisition dates so they can be filtered temporally. 2m mosaics created from the 2m data strips are also included. This service provides access to elevation values for use in analysis with server-side functions for slope, aspect, hillshade and contour. For more information on this service, including the terms of use, visit us online at <a href='http://goto.arcgisonline.com/elevation2/Polar/ArcticDEM' target='_new'>ArcticDEM<\/a>.",
 "extent": {
  "xmin": -1647720.5069000013,
  "ymin": -2101522.3853999963,
  "xmax": 5476281.493099999,
  "ymax": 5505635.614600004,
  "spatialReference": {
   "wkid": 5936,
   "latestWkid": 5936
  }
 },
 "initialExtent": {
  "xmin": -1647720.5069000013,
  "ymin": -2101522.3853999963,
  "xmax": 5476281.493099999,
  "ymax": 5505635.614600004,
  "spatialReference": {
   "wkid": 5936,
   "latestWkid": 5936
  }
 },
 "fullExtent": {
  "xmin": -1647720.5069000013,
  "ymin": -2101522.3853999963,
  "xmax": 5476281.493099999,
  "ymax": 5505635.614600004,
  "spatialReference": {
   "wkid": 5936,
   "latestWkid": 5936
  }
 },
 "pixelSizeX": 2,
 "pixelSizeY": 2,
 "bandCount": 2,
 "pixelType": "F32",
 "minPixelSize": 0,
 "maxPixelSize": 0,
 "copyrightText": "Source: PGC, UMN, Esri",
 "serviceDataType": "esriImageServiceDataTypeElevation",
 "minValues": [
  -346.9075317382813,
  -1.495296955108643
 ],
 "maxValues": [
  5282.5244140625,
  2570.028564453125
 ],
 "meanValues": [
  513.858187775337,
  2.921521885554519
 ],
 "stdvValues": [
  660.8068512943648,
  37.80131080597688
 ],
 "objectIdField": "OBJECTID",
 "fields": [
  {
   "name": "OBJECTID",
   "type": "esriFieldTypeOID",
   "alias": "OBJECTID",
   "domain": null
  },
  {
   "name": "Shape",
   "type": "esriFieldTypeGeometry",
   "alias": "Shape",
   "domain": null
  },
  {
   "name": "Name",
   "type": "esriFieldTypeString",
   "alias": "Name",
   "domain": null,
   "length": 200
  },
  {
   "name": "MinPS",
   "type": "esriFieldTypeDouble",
   "alias": "MinPS",
   "domain": null
  },
  {
   "name": "MaxPS",
   "type": "esriFieldTypeDouble",
   "alias": "MaxPS",
   "domain": null
  },
  {
   "name": "LowPS",
   "type": "esriFieldTypeDouble",
   "alias": "LowPS",
   "domain": null
  },
  {
   "name": "HighPS",
   "type": "esriFieldTypeDouble",
   "alias": "HighPS",
   "domain": null
  },
  {
   "name": "Category",
   "type": "esriFieldTypeInteger",
   "alias": "Category",
   "domain": {
    "type": "codedValue",
    "name": "MosaicCatalogItemCategoryDomain",
    "codedValues": [
     {
      "name": "Unknown",
      "code": 0
     },
     {
      "name": "Primary",
      "code": 1
     },
     {
      "name": "Overview",
      "code": 2
     },
     {
      "name": "Unprocessed Overview",
      "code": 3
     },
     {
      "name": "Partial Overview",
      "code": 4
     },
     {
      "name": "Uploaded",
      "code": 253
     },
     {
      "name": "Incomplete",
      "code": 254
     },
     {
      "name": "Custom",
      "code": 255
     }
    ]
   }
  },
  {
   "name": "Tag",
   "type": "esriFieldTypeString",
   "alias": "Tag",
   "domain": null,
   "length": 100
  },
  {
   "name": "GroupName",
   "type": "esriFieldTypeString",
   "alias": "GroupName",
   "domain": null,
   "length": 100
  },
  {
   "name": "ProductName",
   "type": "esriFieldTypeString",
   "alias": "ProductName",
   "domain": null,
   "length": 100
  },
  {
   "name": "CenterX",
   "type": "esriFieldTypeDouble",
   "alias": "CenterX",
   "domain": null
  },
  {
   "name": "CenterY",
   "type": "esriFieldTypeDouble",
   "alias": "CenterY",
   "domain": null
  },
  {
   "name": "ZOrder",
   "type": "esriFieldTypeInteger",
   "alias": "ZOrder",
   "domain": null
  },
  {
   "name": "Dataset_ID",
   "type": "esriFieldTypeString",
   "alias": "Dataset_ID",
   "domain": null,
   "length": 32
  },
  {
   "name": "Best",
   "type": "esriFieldTypeInteger",
   "alias": "Best",
   "domain": null
  },
  {
   "name": "Source",
   "type": "esriFieldTypeString",
   "alias": "Source",
   "domain": null,
   "length": 32
  },
  {
   "name": "LE90",
   "type": "esriFieldTypeSingle",
   "alias": "LE90",
   "domain": null
  },
  {
   "name": "CE90",
   "type": "esriFieldTypeSingle",
   "alias": "CE90",
   "domain": null
  },
  {
   "name": "DEM_Type",
   "type": "esriFieldTypeSmallInteger",
   "alias": "DEM_Type",
   "domain": null
  },
  {
   "name": "NumDate",
   "type": "esriFieldTypeString",
   "alias": "NumDate",
   "domain": null,
   "length": 255
  },
  {
   "name": "AcquisitionDate",
   "type": "esriFieldTypeDate",
   "alias": "AcquisitionDate",
   "domain": null,
   "length": 8
  },
  {
   "name": "Source_URL",
   "type": "esriFieldTypeString",
   "alias": "Source_URL",
   "domain": null,
   "length": 64
  },
  {
   "name": "VerticalDatum",
   "type": "esriFieldTypeString",
   "alias": "VerticalDatum",
   "domain": null,
   "length": 16
  },
  {
   "name": "Link2Metadata",
   "type": "esriFieldTypeString",
   "alias": "Link2Metadata",
   "domain": null,
   "length": 100
  },
  {
   "name": "creationdate",
   "type": "esriFieldTypeDate",
   "alias": "creationdate",
   "domain": null,
   "length": 8
  },
  {
   "name": "fileurl",
   "type": "esriFieldTypeString",
   "alias": "fileurl",
   "domain": null,
   "length": 256
  },
  {
   "name": "qual",
   "type": "esriFieldTypeDouble",
   "alias": "qual",
   "domain": null
  },
  {
   "name": "dx",
   "type": "esriFieldTypeDouble",
   "alias": "dx",
   "domain": null
  },
  {
   "name": "dy",
   "type": "esriFieldTypeDouble",
   "alias": "dy",
   "domain": null
  },
  {
   "name": "dz",
   "type": "esriFieldTypeDouble",
   "alias": "dz",
   "domain": null
  },
  {
   "name": "reg_src",
   "type": "esriFieldTypeString",
   "alias": "reg_src",
   "domain": null,
   "length": 20
  },
  {
   "name": "num_gcps",
   "type": "esriFieldTypeSmallInteger",
   "alias": "num_gcps",
   "domain": null
  },
  {
   "name": "meanresz",
   "type": "esriFieldTypeDouble",
   "alias": "meanresz",
   "domain": null
  },
  {
   "name": "active",
   "type": "esriFieldTypeSmallInteger",
   "alias": "active",
   "domain": null
  },
  {
   "name": "qc",
   "type": "esriFieldTypeSmallInteger",
   "alias": "qc",
   "domain": null
  },
  {
   "name": "BandAR_Z",
   "type": "esriFieldTypeString",
   "alias": "BandAR_Z",
   "domain": null,
   "length": 50
  },
  {
   "name": "Shape_Length",
   "type": "esriFieldTypeDouble",
   "alias": "Shape_Length",
   "domain": null
  },
  {
   "name": "Shape_Area",
   "type": "esriFieldTypeDouble",
   "alias": "Shape_Area",
   "domain": null
  }
 ],
 "capabilities": "Catalog,Image,Mensuration,Metadata,Pixels",
 "defaultMosaicMethod": "ByAttribute",
 "allowedMosaicMethods": "ByAttribute,LockRaster,Seamline,None",
 "sortField": "Best",
 "sortValue": "0",
 "mosaicOperator": "First",
 "defaultCompressionQuality": 75,
 "defaultResamplingMethod": "Bilinear",
 "maxImageHeight": 4000,
 "maxImageWidth": 4000,
 "maxRecordCount": 2000,
 "maxDownloadImageCount": 0,
 "maxDownloadSizeLimit": 2048,
 "maxMosaicImageCount": 50,
 "allowRasterFunction": true,
 "rasterFunctionInfos": [
  {
   "name": "Hillshade Gray",
   "description": "Provides a hillshaded surface generated dynamically using the hillshade server-side function on the elevation layer with a solar azimuth of 315 degrees and solar altitude of 45 degrees.",
   "help": ""
  },
  {
   "name": "Aspect Degrees",
   "description": "This server-side function will apply an on-the-fly process to the input elevation data to generate an aspect layer.",
   "help": "Raster Function Templates may be activated in ArcMap by loading the service into the map, right clicking on the service in the Table of Contents to select Properties, and selecting the desired function from the Server Functions tab. For help with invoking raster functions via REST calls, see http://resources.arcgis.com/en/help/rest/apiref/. "
  },
  {
   "name": "Aspect Map",
   "description": "This server-side function will apply an on-the-fly process to the input elevation data to generate a color visualization of aspect. ",
   "help": "Raster Function Templates may be activated in ArcMap by loading the service into the map, right clicking on the service in the Table of Contents to select Properties, and selecting the desired function from the Server Functions tab. For help with invoking raster functions via REST calls, see http://resources.arcgis.com/en/help/rest/apiref/. "
  },
  {
   "name": "Contour 25",
   "description": "Provides 25 contours for the area of interest dynamically generated using the contour server-side function.",
   "help": ""
  },
  {
   "name": "Hillshade Multidirectional",
   "description": "This server-side function will apply an on-the-fly process to the input elevation values to generate a multi-directional hillshade. This algorithm computes hillshade from six different directions, where each hillshade is multiplied by a weight and thereafter the sum of all is normalized to produce the final output.",
   "help": "Raster Function Templates may be activated in ArcMap by loading the service into the map, right clicking on the service in the Table of Contents to select Properties, and selecting the desired function from the Server Functions tab. For help with invoking raster functions via REST calls, see http://resources.arcgis.com/en/help/rest/apiref/. "
  },
  {
   "name": "Slope Map",
   "description": "This server-side function will apply an on-the-fly process to the input elevation data to generate a color visualization of slope, where flat surfaces are gray, shallow slopes are yellow, and steep slopes are red-brown. ",
   "help": "Raster Function Templates may be activated in ArcMap by loading the service into the map, right clicking on the service in the Table of Contents to select Properties, and selecting the desired function from the Server Functions tab. For help with invoking raster functions via REST calls, see http://resources.arcgis.com/en/help/rest/apiref/. "
  },
  {
   "name": "Slope Degrees",
   "description": "This server-side function will apply an on-the-fly process to the input elevation data to generate a service returning slope (in degrees, from 0 to 90). ",
   "help": "Raster Function Templates may be activated in ArcMap by loading the service into the map, right clicking on the service in the Table of Contents to select Properties, and selecting the desired function from the Server Functions tab. For help with invoking raster functions via REST calls, see http://resources.arcgis.com/en/help/rest/apiref/. "
  },
  {
   "name": "Contour Smoothed 25",
   "description": "Provides 25 smoothened contours for the area of interest dynamically generated using the contour server-side function.",
   "help": ""
  },
  {
   "name": "Hillshade Elevation Tinted",
   "description": "This server-side function will apply an on-the-fly process to the input elevation data to generate a tinted hillshade. ",
   "help": "Raster Function Templates may be activated in ArcMap by loading the service into the map, right clicking on the service in the Table of Contents to select Properties, and selecting the desired function from the Server Functions tab. For help with invoking raster functions via REST calls, see http://resources.arcgis.com/en/help/rest/apiref/. "
  },
  {
   "name": "Height Ellipsoidal",
   "description": "Provides ellipsoidal heights calculated dynamically using a server-side function to add the EGM2008 geoid model to orthometric heights from the elevation layer. This can be used for orthorectification.",
   "help": ""
  },
  {
   "name": "Height Orthometric",
   "description": "This Server side raster function provides Orthometric heights.",
   "help": ""
  },
  {
   "name": "None",
   "description": "A No-Op Function.",
   "help": ""
  }
 ],
 "rasterTypeInfos": [
  {
   "name": "Raster Dataset",
   "description": "Supports all ArcGIS Raster Datasets",
   "help": ""
  }
 ],
 "mensurationCapabilities": "Basic",
 "hasHistograms": false,
 "hasColormap": false,
 "hasRasterAttributeTable": false,
 "minScale": 0,
 "maxScale": 0,
 "exportTilesAllowed": false,
 "hasMultidimensions": false,
 "supportsStatistics": true,
 "supportsAdvancedQueries": true,
 "editFieldsInfo": null,
 "ownershipBasedAccessControlForRasters": null,
 "allowComputeTiePoints": false,
 "useStandardizedQueries": true,
 "advancedQueryCapabilities": {
  "useStandardizedQueries": true,
  "supportsStatistics": true,
  "supportsOrderBy": true,
  "supportsDistinct": true,
  "supportsPagination": true
 },
 "spatialReference": {
  "wkid": 5936,
  "latestWkid": 5936
 }
}
